Package: barcodetrackR Version: 1.17.0 Command: /Library/Frameworks/R.framework/Resources/bin/R CMD INSTALL barcodetrackR StartedAt: 2025-10-14 15:12:18 -0400 (Tue, 14 Oct 2025) EndedAt: 2025-10-14 15:12:29 -0400 (Tue, 14 Oct 2025) EllapsedTime: 10.8 seconds RetCode: 0 Status: OK