Package: barbieQ Version: 1.3.0 Command: /home/biocbuild/bbs-3.23-bioc/R/bin/R CMD INSTALL barbieQ StartedAt: 2025-11-20 15:20:56 -0500 (Thu, 20 Nov 2025) EndedAt: 2025-11-20 15:21:27 -0500 (Thu, 20 Nov 2025) EllapsedTime: 30.9 seconds RetCode: 0 Status: OK