Package: barbieQ Version: 1.3.0 Command: /Library/Frameworks/R.framework/Resources/bin/R CMD INSTALL barbieQ StartedAt: 2025-11-21 15:27:35 -0500 (Fri, 21 Nov 2025) EndedAt: 2025-11-21 15:28:15 -0500 (Fri, 21 Nov 2025) EllapsedTime: 40.5 seconds RetCode: 0 Status: OK