Package: barbieQ Version: 1.3.0 Command: /Library/Frameworks/R.framework/Resources/bin/R CMD build --keep-empty-dirs --no-resave-data barbieQ StartedAt: 2025-11-21 16:08:26 -0500 (Fri, 21 Nov 2025) EndedAt: 2025-11-21 16:16:22 -0500 (Fri, 21 Nov 2025) EllapsedTime: 475.9 seconds RetCode: 0 Status: OK PackageFile: barbieQ_1.3.0.tar.gz PackageFileSize: 4.207 MiB