Package: barbieQ Version: 1.3.0 Command: rm -rf barbieQ.buildbin-libdir && mkdir barbieQ.buildbin-libdir && /Users/biocbuild/BBS/utils/build-universal.sh barbieQ_1.3.0.tar.gz /Library/Frameworks/R.framework/Resources/bin/R barbieQ.buildbin-libdir StartedAt: 2025-11-22 01:22:44 -0500 (Sat, 22 Nov 2025) EndedAt: 2025-11-22 01:23:28 -0500 (Sat, 22 Nov 2025) EllapsedTime: 43.8 seconds RetCode: 0 Status: OK PackageFile: barbieQ_1.3.0.tgz PackageFileSize: 4.309 MiB