Package: barbieQ Version: 1.2.0 Command: rm -rf barbieQ.buildbin-libdir && mkdir barbieQ.buildbin-libdir && /Users/biocbuild/BBS/utils/build-universal.sh barbieQ_1.2.0.tar.gz /Library/Frameworks/R.framework/Resources/bin/R barbieQ.buildbin-libdir StartedAt: 2025-10-30 05:16:28 -0400 (Thu, 30 Oct 2025) EndedAt: 2025-10-30 05:16:41 -0400 (Thu, 30 Oct 2025) EllapsedTime: 13.2 seconds RetCode: 0 Status: OK PackageFile: barbieQ_1.2.0.tgz PackageFileSize: 4.303 MiB