Package: banocc Version: 1.35.0 Command: /Library/Frameworks/R.framework/Resources/bin/R CMD INSTALL banocc StartedAt: 2025-11-21 15:04:41 -0500 (Fri, 21 Nov 2025) EndedAt: 2025-11-21 15:04:55 -0500 (Fri, 21 Nov 2025) EllapsedTime: 14.6 seconds RetCode: 0 Status: OK