Package: banocc Version: 1.35.0 Command: /Library/Frameworks/R.framework/Resources/bin/R CMD build --keep-empty-dirs --no-resave-data banocc StartedAt: 2025-11-21 15:40:24 -0500 (Fri, 21 Nov 2025) EndedAt: 2025-11-21 15:41:05 -0500 (Fri, 21 Nov 2025) EllapsedTime: 41.4 seconds RetCode: 0 Status: OK PackageFile: banocc_1.35.0.tar.gz PackageFileSize: 26.04 MiB