Package: banocc Version: 1.35.0 Command: rm -rf banocc.buildbin-libdir && mkdir banocc.buildbin-libdir && /Users/biocbuild/BBS/utils/build-universal.sh banocc_1.35.0.tar.gz /Library/Frameworks/R.framework/Resources/bin/R banocc.buildbin-libdir StartedAt: 2025-11-21 23:22:54 -0500 (Fri, 21 Nov 2025) EndedAt: 2025-11-21 23:23:01 -0500 (Fri, 21 Nov 2025) EllapsedTime: 7.1 seconds RetCode: 0 Status: OK PackageFile: banocc_1.35.0.tgz PackageFileSize: 1.551 MiB