Package: bandle Version: 1.15.0 Command: /home/biocbuild/bbs-3.23-bioc/R/bin/R CMD INSTALL bandle StartedAt: 2025-11-20 15:38:21 -0500 (Thu, 20 Nov 2025) EndedAt: 2025-11-20 15:39:56 -0500 (Thu, 20 Nov 2025) EllapsedTime: 95.5 seconds RetCode: 0 Status: OK