Package: bandle Version: 1.15.0 Command: /home/biocbuild/bbs-3.23-bioc/R/bin/R CMD build --keep-empty-dirs --no-resave-data bandle StartedAt: 2025-11-20 16:17:57 -0500 (Thu, 20 Nov 2025) EndedAt: 2025-11-20 16:22:31 -0500 (Thu, 20 Nov 2025) EllapsedTime: 273.2 seconds RetCode: 0 Status: OK PackageFile: bandle_1.15.0.tar.gz PackageFileSize: 4.029 MiB