Package: bandle Version: 1.15.0 Command: /Library/Frameworks/R.framework/Resources/bin/R CMD INSTALL bandle StartedAt: 2025-11-20 15:33:27 -0500 (Thu, 20 Nov 2025) EndedAt: 2025-11-20 15:35:24 -0500 (Thu, 20 Nov 2025) EllapsedTime: 117.2 seconds RetCode: 0 Status: OK