Package: bandle Version: 1.15.0 Command: /Library/Frameworks/R.framework/Resources/bin/R CMD build --keep-empty-dirs --no-resave-data bandle StartedAt: 2025-11-21 16:08:20 -0500 (Fri, 21 Nov 2025) EndedAt: 2025-11-21 16:13:41 -0500 (Fri, 21 Nov 2025) EllapsedTime: 321.2 seconds RetCode: 0 Status: OK PackageFile: bandle_1.15.0.tar.gz PackageFileSize: 4.194 MiB