Package: bandle Version: 1.13.0 Command: /Library/Frameworks/R.framework/Resources/bin/R CMD INSTALL bandle StartedAt: 2025-10-15 15:23:17 -0400 (Wed, 15 Oct 2025) EndedAt: 2025-10-15 15:23:50 -0400 (Wed, 15 Oct 2025) EllapsedTime: 32.4 seconds RetCode: 0 Status: OK