Package: bandle Version: 1.13.0 Command: /Library/Frameworks/R.framework/Resources/bin/R CMD build --keep-empty-dirs --no-resave-data bandle StartedAt: 2025-10-16 15:52:58 -0400 (Thu, 16 Oct 2025) EndedAt: 2025-10-16 15:54:29 -0400 (Thu, 16 Oct 2025) EllapsedTime: 90.9 seconds RetCode: 0 Status: OK PackageFile: bandle_1.13.0.tar.gz PackageFileSize: 4.203 MiB