Package: bandle Version: 1.13.0 Command: rm -rf bandle.buildbin-libdir && mkdir bandle.buildbin-libdir && /Users/biocbuild/BBS/utils/build-universal.sh bandle_1.13.0.tar.gz /Library/Frameworks/R.framework/Resources/bin/R bandle.buildbin-libdir StartedAt: 2025-10-15 22:37:34 -0400 (Wed, 15 Oct 2025) EndedAt: 2025-10-15 22:38:09 -0400 (Wed, 15 Oct 2025) EllapsedTime: 35.7 seconds RetCode: 0 Status: OK PackageFile: bandle_1.13.0.tgz PackageFileSize: 4.819 MiB