Package: bamsignals Version: 1.41.2 Command: /home/biocbuild/bbs-3.22-bioc/R/bin/R CMD INSTALL bamsignals StartedAt: 2025-09-21 15:16:16 -0400 (Sun, 21 Sep 2025) EndedAt: 2025-09-21 15:16:37 -0400 (Sun, 21 Sep 2025) EllapsedTime: 21.1 seconds RetCode: 0 Status: OK