Package: bamsignals Version: 1.43.0 Command: /home/biocbuild/bbs-3.23-bioc/R/bin/R CMD INSTALL bamsignals StartedAt: 2025-11-21 15:15:53 -0500 (Fri, 21 Nov 2025) EndedAt: 2025-11-21 15:16:14 -0500 (Fri, 21 Nov 2025) EllapsedTime: 20.4 seconds RetCode: 0 Status: OK