Package: bambu Version: 3.13.0 Command: /home/biocbuild/bbs-3.23-bioc/R/bin/R CMD INSTALL bambu StartedAt: 2025-11-23 15:46:06 -0500 (Sun, 23 Nov 2025) EndedAt: 2025-11-23 15:47:02 -0500 (Sun, 23 Nov 2025) EllapsedTime: 55.7 seconds RetCode: 0 Status: OK