Package: bambu Version: 3.13.0 Command: /home/biocbuild/bbs-3.23-bioc/R/bin/R CMD build --keep-empty-dirs --no-resave-data bambu StartedAt: 2025-11-23 16:18:20 -0500 (Sun, 23 Nov 2025) EndedAt: 2025-11-23 16:30:57 -0500 (Sun, 23 Nov 2025) EllapsedTime: 756.6 seconds RetCode: 0 Status: OK PackageFile: bambu_3.13.0.tar.gz PackageFileSize: 2.259 MiB