############################################################################## ############################################################################## ### ### Running command: ### ### /home/biocbuild/bbs-3.23-bioc/R/bin/R CMD build --keep-empty-dirs --no-resave-data bambu ### ############################################################################## ############################################################################## * checking for file ‘bambu/DESCRIPTION’ ... OK * preparing ‘bambu’: * checking DESCRIPTION meta-information ... OK * cleaning src * installing the package (it is needed to build vignettes) * creating vignettes ... OK * cleaning src * checking for LF line-endings in source and make files and shell scripts * checking for empty or unneeded directories Omitted ‘LazyData’ from DESCRIPTION * building ‘bambu_3.13.0.tar.gz’