Package: bambu Version: 3.13.0 Command: /Library/Frameworks/R.framework/Resources/bin/R CMD INSTALL bambu StartedAt: 2025-11-20 15:23:18 -0500 (Thu, 20 Nov 2025) EndedAt: 2025-11-20 15:23:39 -0500 (Thu, 20 Nov 2025) EllapsedTime: 20.9 seconds RetCode: 0 Status: OK