Package: bambu Version: 3.13.0 Command: /Library/Frameworks/R.framework/Resources/bin/R CMD build --keep-empty-dirs --no-resave-data bambu StartedAt: 2025-11-20 15:40:26 -0500 (Thu, 20 Nov 2025) EndedAt: 2025-11-20 15:44:58 -0500 (Thu, 20 Nov 2025) EllapsedTime: 271.9 seconds RetCode: 0 Status: OK PackageFile: bambu_3.13.0.tar.gz PackageFileSize: 2.31 MiB