Package: bambu Version: 3.13.0 Command: rm -rf bambu.buildbin-libdir && mkdir bambu.buildbin-libdir && /Users/biocbuild/BBS/utils/build-universal.sh bambu_3.13.0.tar.gz /Library/Frameworks/R.framework/Resources/bin/R bambu.buildbin-libdir StartedAt: 2025-11-21 23:22:49 -0500 (Fri, 21 Nov 2025) EndedAt: 2025-11-21 23:23:15 -0500 (Fri, 21 Nov 2025) EllapsedTime: 26.8 seconds RetCode: 0 Status: OK PackageFile: bambu_3.13.0.tgz PackageFileSize: 2.111 MiB