Package: ballgown Version: 2.43.0 Command: /home/biocbuild/bbs-3.23-bioc/R/bin/R CMD build --keep-empty-dirs --no-resave-data ballgown StartedAt: 2025-11-21 16:17:42 -0500 (Fri, 21 Nov 2025) EndedAt: 2025-11-21 16:18:34 -0500 (Fri, 21 Nov 2025) EllapsedTime: 51.0 seconds RetCode: 0 Status: OK PackageFile: ballgown_2.43.0.tar.gz PackageFileSize: 3.045 MiB