Package: ballgown Version: 2.43.0 Command: /Library/Frameworks/R.framework/Resources/bin/R CMD INSTALL ballgown StartedAt: 2025-11-21 15:16:18 -0500 (Fri, 21 Nov 2025) EndedAt: 2025-11-21 15:16:33 -0500 (Fri, 21 Nov 2025) EllapsedTime: 15.3 seconds RetCode: 0 Status: OK