Package: ballgown Version: 2.43.0 Command: /Library/Frameworks/R.framework/Resources/bin/R CMD build --keep-empty-dirs --no-resave-data ballgown StartedAt: 2025-11-20 15:40:22 -0500 (Thu, 20 Nov 2025) EndedAt: 2025-11-20 15:40:44 -0500 (Thu, 20 Nov 2025) EllapsedTime: 21.2 seconds RetCode: 0 Status: OK PackageFile: ballgown_2.43.0.tar.gz PackageFileSize: 3.081 MiB