Package: bacon Version: 1.37.0 Command: /home/biocbuild/R/R/bin/R CMD INSTALL bacon StartedAt: 2025-10-20 20:17:08 -0000 (Mon, 20 Oct 2025) EndedAt: 2025-10-20 20:17:30 -0000 (Mon, 20 Oct 2025) EllapsedTime: 22.4 seconds RetCode: 0 Status: OK