Package: bacon Version: 1.39.0 Command: /home/biocbuild/bbs-3.23-bioc/R/bin/R CMD INSTALL bacon StartedAt: 2025-11-07 15:07:55 -0500 (Fri, 07 Nov 2025) EndedAt: 2025-11-07 15:08:05 -0500 (Fri, 07 Nov 2025) EllapsedTime: 9.8 seconds RetCode: 0 Status: OK