Package: bacon Version: 1.39.0 Command: /home/biocbuild/bbs-3.23-bioc/R/bin/R CMD build --keep-empty-dirs --no-resave-data bacon StartedAt: 2025-11-07 16:15:44 -0500 (Fri, 07 Nov 2025) EndedAt: 2025-11-07 16:16:25 -0500 (Fri, 07 Nov 2025) EllapsedTime: 41.0 seconds RetCode: 0 Status: OK PackageFile: bacon_1.39.0.tar.gz PackageFileSize: 1.856 MiB