Package: bacon Version: 1.37.0 Command: rm -rf bacon.buildbin-libdir && mkdir bacon.buildbin-libdir && /Users/biocbuild/BBS/utils/build-universal.sh bacon_1.37.0.tar.gz /Library/Frameworks/R.framework/Resources/bin/R bacon.buildbin-libdir StartedAt: 2025-10-06 01:48:52 -0400 (Mon, 06 Oct 2025) EndedAt: 2025-10-06 01:49:06 -0400 (Mon, 06 Oct 2025) EllapsedTime: 14.8 seconds RetCode: 0 Status: OK PackageFile: bacon_1.37.0.tgz PackageFileSize: 2.245 MiB