Package: awst Version: 1.19.0 Command: /home/biocbuild/bbs-3.23-bioc/R/bin/R CMD build --keep-empty-dirs --no-resave-data awst StartedAt: 2025-11-07 16:15:26 -0500 (Fri, 07 Nov 2025) EndedAt: 2025-11-07 16:16:11 -0500 (Fri, 07 Nov 2025) EllapsedTime: 45.0 seconds RetCode: 0 Status: OK PackageFile: awst_1.19.0.tar.gz PackageFileSize: 421.6 KiB