Package: awst Version: 1.17.0 Command: /Library/Frameworks/R.framework/Resources/bin/R CMD INSTALL awst StartedAt: 2025-10-22 15:22:46 -0400 (Wed, 22 Oct 2025) EndedAt: 2025-10-22 15:23:12 -0400 (Wed, 22 Oct 2025) EllapsedTime: 26.2 seconds RetCode: 0 Status: OK