Package: awst Version: 1.17.0 Command: /Library/Frameworks/R.framework/Resources/bin/R CMD build --keep-empty-dirs --no-resave-data awst StartedAt: 2025-10-22 16:03:09 -0400 (Wed, 22 Oct 2025) EndedAt: 2025-10-22 16:04:01 -0400 (Wed, 22 Oct 2025) EllapsedTime: 52.5 seconds RetCode: 0 Status: OK PackageFile: awst_1.17.0.tar.gz PackageFileSize: 445.2 KiB