Package: awst Version: 1.17.0 Command: rm -rf awst.buildbin-libdir && mkdir awst.buildbin-libdir && /Users/biocbuild/BBS/utils/build-universal.sh awst_1.17.0.tar.gz /Library/Frameworks/R.framework/Resources/bin/R awst.buildbin-libdir StartedAt: 2025-10-23 01:20:49 -0400 (Thu, 23 Oct 2025) EndedAt: 2025-10-23 01:21:20 -0400 (Thu, 23 Oct 2025) EllapsedTime: 31.4 seconds RetCode: 0 Status: OK PackageFile: awst_1.17.0.tgz PackageFileSize: 464 KiB