Package: awst Version: 1.17.0 Command: /Library/Frameworks/R.framework/Resources/bin/R CMD INSTALL awst StartedAt: 2025-10-08 15:17:10 -0400 (Wed, 08 Oct 2025) EndedAt: 2025-10-08 15:17:18 -0400 (Wed, 08 Oct 2025) EllapsedTime: 8.7 seconds RetCode: 0 Status: OK