Package: autonomics Version: 1.19.0 Command: /home/biocbuild/bbs-3.23-bioc/R/bin/R CMD build --keep-empty-dirs --no-resave-data autonomics StartedAt: 2025-11-05 16:21:22 -0500 (Wed, 05 Nov 2025) EndedAt: 2025-11-05 16:23:35 -0500 (Wed, 05 Nov 2025) EllapsedTime: 133.1 seconds RetCode: 0 Status: OK PackageFile: autonomics_1.19.0.tar.gz PackageFileSize: 2.46 MiB