Package: autonomics Version: 1.17.16 Command: /Library/Frameworks/R.framework/Resources/bin/R CMD INSTALL autonomics StartedAt: 2025-10-14 15:23:37 -0400 (Tue, 14 Oct 2025) EndedAt: 2025-10-14 15:24:36 -0400 (Tue, 14 Oct 2025) EllapsedTime: 58.9 seconds RetCode: 0 Status: OK