Package: autonomics Version: 1.17.16 Command: rm -rf autonomics.buildbin-libdir && mkdir autonomics.buildbin-libdir && /Users/biocbuild/BBS/utils/build-universal.sh autonomics_1.17.16.tar.gz /Library/Frameworks/R.framework/Resources/bin/R autonomics.buildbin-libdir StartedAt: 2025-10-15 02:32:10 -0400 (Wed, 15 Oct 2025) EndedAt: 2025-10-15 02:33:14 -0400 (Wed, 15 Oct 2025) EllapsedTime: 64.6 seconds RetCode: 0 Status: OK PackageFile: autonomics_1.17.16.tgz PackageFileSize: 3.592 MiB