Package: attract Version: 1.63.0 Command: /home/biocbuild/bbs-3.23-bioc/R/bin/R CMD INSTALL attract StartedAt: 2025-10-30 15:58:24 -0400 (Thu, 30 Oct 2025) EndedAt: 2025-10-30 15:58:25 -0400 (Thu, 30 Oct 2025) EllapsedTime: 0.7 seconds RetCode: 1 Status: ERROR