############################################################################## ############################################################################## ### ### Running command: ### ### /home/biocbuild/bbs-3.23-bioc/R/bin/R CMD build --keep-empty-dirs --no-resave-data attract ### ############################################################################## ############################################################################## * checking for file ‘attract/DESCRIPTION’ ... OK * preparing ‘attract’: * checking DESCRIPTION meta-information ... OK * installing the package (it is needed to build vignettes) ----------------------------------- ERROR: dependency ‘reactome.db’ is not available for package ‘attract’ Perhaps try a variation of: install.packages('reactome.db') * removing ‘/tmp/RtmpjGJ4QL/Rinste947b6d9a29c4/attract’ ----------------------------------- ERROR: package installation failed