Package: attract Version: 1.63.0 Command: /Library/Frameworks/R.framework/Resources/bin/R CMD INSTALL attract StartedAt: 2025-11-21 15:40:00 -0500 (Fri, 21 Nov 2025) EndedAt: 2025-11-21 15:40:30 -0500 (Fri, 21 Nov 2025) EllapsedTime: 30.3 seconds RetCode: 0 Status: OK