Package: attract Version: 1.63.0 Command: /Library/Frameworks/R.framework/Resources/bin/R CMD build --keep-empty-dirs --no-resave-data attract StartedAt: 2025-11-21 16:06:39 -0500 (Fri, 21 Nov 2025) EndedAt: 2025-11-21 16:09:26 -0500 (Fri, 21 Nov 2025) EllapsedTime: 167.0 seconds RetCode: 0 Status: OK PackageFile: attract_1.63.0.tar.gz PackageFileSize: 4.294 MiB