Package: attract Version: 1.63.0 Command: rm -rf attract.buildbin-libdir && mkdir attract.buildbin-libdir && /Users/biocbuild/BBS/utils/build-universal.sh attract_1.63.0.tar.gz /Library/Frameworks/R.framework/Resources/bin/R attract.buildbin-libdir StartedAt: 2025-11-22 01:22:25 -0500 (Sat, 22 Nov 2025) EndedAt: 2025-11-22 01:23:00 -0500 (Sat, 22 Nov 2025) EllapsedTime: 34.7 seconds RetCode: 0 Status: OK PackageFile: attract_1.63.0.tgz PackageFileSize: 4.364 MiB