Package: attract Version: 1.61.0 Command: /Library/Frameworks/R.framework/Resources/bin/R CMD INSTALL attract StartedAt: 2025-10-24 15:27:32 -0400 (Fri, 24 Oct 2025) EndedAt: 2025-10-24 15:27:42 -0400 (Fri, 24 Oct 2025) EllapsedTime: 9.6 seconds RetCode: 0 Status: OK