Package: attract Version: 1.61.0 Command: /Library/Frameworks/R.framework/Resources/bin/R CMD build --keep-empty-dirs --no-resave-data attract StartedAt: 2025-10-24 15:42:34 -0400 (Fri, 24 Oct 2025) EndedAt: 2025-10-24 15:43:37 -0400 (Fri, 24 Oct 2025) EllapsedTime: 63.7 seconds RetCode: 0 Status: OK PackageFile: attract_1.61.0.tar.gz PackageFileSize: 4.294 MiB