Package: attract Version: 1.61.0 Command: rm -rf attract.buildbin-libdir && mkdir attract.buildbin-libdir && /Users/biocbuild/BBS/utils/build-universal.sh attract_1.61.0.tar.gz /Library/Frameworks/R.framework/Resources/bin/R attract.buildbin-libdir StartedAt: 2025-10-24 22:54:24 -0400 (Fri, 24 Oct 2025) EndedAt: 2025-10-24 22:54:34 -0400 (Fri, 24 Oct 2025) EllapsedTime: 10.2 seconds RetCode: 0 Status: OK PackageFile: attract_1.61.0.tgz PackageFileSize: 4.365 MiB