Package: atena Version: 1.17.0 Command: /home/biocbuild/bbs-3.23-bioc/R/bin/R CMD INSTALL atena StartedAt: 2025-11-20 15:39:07 -0500 (Thu, 20 Nov 2025) EndedAt: 2025-11-20 15:39:48 -0500 (Thu, 20 Nov 2025) EllapsedTime: 41.6 seconds RetCode: 0 Status: OK