Package: atena Version: 1.17.0 Command: /home/biocbuild/bbs-3.23-bioc/R/bin/R CMD build --keep-empty-dirs --no-resave-data atena StartedAt: 2025-11-20 16:14:37 -0500 (Thu, 20 Nov 2025) EndedAt: 2025-11-20 16:26:53 -0500 (Thu, 20 Nov 2025) EllapsedTime: 735.5 seconds RetCode: 0 Status: OK PackageFile: atena_1.17.0.tar.gz PackageFileSize: 1.283 MiB