Package: atena Version: 1.15.2 Command: /Library/Frameworks/R.framework/Resources/bin/R CMD INSTALL atena StartedAt: 2025-10-14 15:35:50 -0400 (Tue, 14 Oct 2025) EndedAt: 2025-10-14 15:36:47 -0400 (Tue, 14 Oct 2025) EllapsedTime: 57.4 seconds RetCode: 0 Status: OK